BEGIN:VCALENDAR
VERSION:2.0
PRODID:-//Mid Gloucestershire Branch - ECPv6.15.20//NONSGML v1.0//EN
CALSCALE:GREGORIAN
METHOD:PUBLISH
X-ORIGINAL-URL:https://midgloucestershire.camra.org.uk
X-WR-CALDESC:Events for Mid Gloucestershire Branch
REFRESH-INTERVAL;VALUE=DURATION:PT1H
X-Robots-Tag:noindex
X-PUBLISHED-TTL:PT1H
BEGIN:VTIMEZONE
TZID:UTC
BEGIN:STANDARD
TZOFFSETFROM:+0000
TZOFFSETTO:+0000
TZNAME:UTC
DTSTART:20240101T000000
END:STANDARD
END:VTIMEZONE
BEGIN:VEVENT
DTSTART;VALUE=DATE:20250402
DTEND;VALUE=DATE:20250414
DTSTAMP:20260425T113957
CREATED:20250401T161708Z
LAST-MODIFIED:20250401T161708Z
UID:34-1743552000-1744588799@midgloucestershire.camra.org.uk
SUMMARY:Welcome to the new look website
DESCRIPTION:Welcome to the new-look Gloucestershire Branch website. Over the coming weeks we will be restoring all the information previously available whilst introducing a way for all sub-branches to contribute their news and events. \nIf you would like to contribute please contact one of the contacts on the main page.
URL:https://midgloucestershire.camra.org.uk/event/welcome-to-the-new-look-website/
CATEGORIES:Test
END:VEVENT
END:VCALENDAR