BEGIN:VCALENDAR
VERSION:2.0
PRODID:-//Mid Gloucestershire Branch - ECPv6.15.20//NONSGML v1.0//EN
CALSCALE:GREGORIAN
METHOD:PUBLISH
X-WR-CALNAME:Mid Gloucestershire Branch
X-ORIGINAL-URL:https://midgloucestershire.camra.org.uk
X-WR-CALDESC:Events for Mid Gloucestershire Branch
REFRESH-INTERVAL;VALUE=DURATION:PT1H
X-Robots-Tag:noindex
X-PUBLISHED-TTL:PT1H
BEGIN:VTIMEZONE
TZID:UTC
BEGIN:STANDARD
TZOFFSETFROM:+0000
TZOFFSETTO:+0000
TZNAME:UTC
DTSTART:20240101T000000
END:STANDARD
END:VTIMEZONE
BEGIN:VEVENT
DTSTART;TZID=UTC:20250605T190000
DTEND;TZID=UTC:20250605T223000
DTSTAMP:20260423T174611
CREATED:20250513T112820Z
LAST-MODIFIED:20250513T112820Z
UID:944-1749150000-1749162600@midgloucestershire.camra.org.uk
SUMMARY:Gloucester Social
DESCRIPTION:Further to the successful social in April we are planning the next one on Thursday 5th June. We plan to alternate them between the city centre and the docks and will meet in Dr Fosters at 7.30pm before moving on to another pub or two.
URL:https://midgloucestershire.camra.org.uk/event/gloucester-social-2/
CATEGORIES:Gloucester Social,Mid Gloucestershire Social
ATTACH;FMTTYPE=image/png:https://midgloucestershire.camra.org.uk/wp-content/uploads/2025/04/Icon_CoG_2-e1744619546655.png
END:VEVENT
BEGIN:VEVENT
DTSTART;TZID=UTC:20250423T193000
DTEND;TZID=UTC:20250423T220000
DTSTAMP:20260423T174611
CREATED:20250402T131223Z
LAST-MODIFIED:20250402T131223Z
UID:112-1745436600-1745445600@midgloucestershire.camra.org.uk
SUMMARY:Gloucester Social
DESCRIPTION:It’s been a while since the Gloucester subbranch has held a social. We’re still without a functioning committee but we thought we’d see if there is an appetite to meet up over a few beers and visit some pubs together. \nThe next one will start in The Thirsty Pine (5-7 Brunswick Road) at 7.30pm on Wednesday 23rd April\, St George’s Day\, all welcome. Please let me [Richard Holt] know if you plan to attend or\, if you would like to attend future socials but another time would work better for you.
URL:https://midgloucestershire.camra.org.uk/event/gloucester-social/
LOCATION:Thirsty Pine\, 5-7 Brunswick Road\, Gloucester\, Gloucestershire\, GL1 1HG\, United Kingdom
CATEGORIES:Gloucester Social
ATTACH;FMTTYPE=image/png:https://midgloucestershire.camra.org.uk/wp-content/uploads/2025/04/Icon_CoG_2-e1744619546655.png
END:VEVENT
END:VCALENDAR