BEGIN:VCALENDAR
VERSION:2.0
PRODID:-//Mid Gloucestershire Branch - ECPv6.15.20//NONSGML v1.0//EN
CALSCALE:GREGORIAN
METHOD:PUBLISH
X-WR-CALNAME:Mid Gloucestershire Branch
X-ORIGINAL-URL:https://midgloucestershire.camra.org.uk
X-WR-CALDESC:Events for Mid Gloucestershire Branch
REFRESH-INTERVAL;VALUE=DURATION:PT1H
X-Robots-Tag:noindex
X-PUBLISHED-TTL:PT1H
BEGIN:VTIMEZONE
TZID:UTC
BEGIN:STANDARD
TZOFFSETFROM:+0000
TZOFFSETTO:+0000
TZNAME:UTC
DTSTART:20240101T000000
END:STANDARD
END:VTIMEZONE
BEGIN:VEVENT
DTSTART;TZID=UTC:20251211T193000
DTEND;TZID=UTC:20251211T220000
DTSTAMP:20260423T193509
CREATED:20251127T192029Z
LAST-MODIFIED:20251127T192030Z
UID:2078-1765481400-1765490400@midgloucestershire.camra.org.uk
SUMMARY:Gloucester Social - Drunken Duck
DESCRIPTION:Our penultimate social before Christmas will see us start at the Drunken Duck 19:30.
URL:https://midgloucestershire.camra.org.uk/event/gloucester-social-drunken-duck/
LOCATION:Drunken Duck\, Gloucester\, 1 Bull Lane\, Glocucester\, Gloucestershire\, GL1 2HG\, United Kingdom
CATEGORIES:Gloucester Social
ATTACH;FMTTYPE=image/png:https://midgloucestershire.camra.org.uk/wp-content/uploads/2025/04/Icon_CoG_2-e1744619546655.png
END:VEVENT
END:VCALENDAR