BEGIN:VCALENDAR
VERSION:2.0
PRODID:-//Mid Gloucestershire Branch - ECPv6.15.20//NONSGML v1.0//EN
CALSCALE:GREGORIAN
METHOD:PUBLISH
X-ORIGINAL-URL:https://midgloucestershire.camra.org.uk
X-WR-CALDESC:Events for Mid Gloucestershire Branch
REFRESH-INTERVAL;VALUE=DURATION:PT1H
X-Robots-Tag:noindex
X-PUBLISHED-TTL:PT1H
BEGIN:VTIMEZONE
TZID:UTC
BEGIN:STANDARD
TZOFFSETFROM:+0000
TZOFFSETTO:+0000
TZNAME:UTC
DTSTART:20240101T000000
END:STANDARD
END:VTIMEZONE
BEGIN:VEVENT
DTSTART;TZID=UTC:20250703T193000
DTEND;TZID=UTC:20250703T220000
DTSTAMP:20260424T023146
CREATED:20250610T171824Z
LAST-MODIFIED:20250610T171824Z
UID:1132-1751571000-1751580000@midgloucestershire.camra.org.uk
SUMMARY:Gloucester Social July - The Birthday Duck
DESCRIPTION:The Drunken Duck turns 2! As part of the celebrations we are starting the party early on the evening of Thursday 3rd July. The upstairs room has been booked. \nPlease let us know if you plan to attend and we look forward to seeing you there.
URL:https://midgloucestershire.camra.org.uk/event/gloucester-social-july-the-birthday-duck-locations-tbc/
LOCATION:Drunken Duck\, Gloucester\, 1 Bull Lane\, Glocucester\, Gloucestershire\, GL1 2HG\, United Kingdom
CATEGORIES:Gloucester Social
ATTACH;FMTTYPE=image/png:https://midgloucestershire.camra.org.uk/wp-content/uploads/2025/04/Icon_CoG_2-e1744619546655.png
END:VEVENT
END:VCALENDAR