BEGIN:VCALENDAR
VERSION:2.0
PRODID:-//Mid Gloucestershire Branch - ECPv6.15.20//NONSGML v1.0//EN
CALSCALE:GREGORIAN
METHOD:PUBLISH
X-WR-CALNAME:Mid Gloucestershire Branch
X-ORIGINAL-URL:https://midgloucestershire.camra.org.uk
X-WR-CALDESC:Events for Mid Gloucestershire Branch
REFRESH-INTERVAL;VALUE=DURATION:PT1H
X-Robots-Tag:noindex
X-PUBLISHED-TTL:PT1H
BEGIN:VTIMEZONE
TZID:UTC
BEGIN:STANDARD
TZOFFSETFROM:+0000
TZOFFSETTO:+0000
TZNAME:UTC
DTSTART:20250101T000000
END:STANDARD
END:VTIMEZONE
BEGIN:VEVENT
DTSTART;VALUE=DATE:20261208
DTEND;VALUE=DATE:20261209
DTSTAMP:20260423T160320
CREATED:20260305T150224Z
LAST-MODIFIED:20260305T150224Z
UID:2300-1796688000-1796774399@midgloucestershire.camra.org.uk
SUMMARY:Ciren'Stagger 2026
DESCRIPTION:Ciren’ Stagger starting at The Drillmans\, The Marlborough\, and The Hop Kettle.
URL:https://midgloucestershire.camra.org.uk/event/cirenstagger-2026/
CATEGORIES:Cirencester Social
ATTACH;FMTTYPE=image/png:https://midgloucestershire.camra.org.uk/wp-content/uploads/2025/04/Icon_Cir_2-e1744619527128.png
ORGANIZER;CN="CAMRA in Cirencester":MAILTO:cirencester@midgloucestershire.camra.org.uk
END:VEVENT
END:VCALENDAR