BEGIN:VCALENDAR
VERSION:2.0
PRODID:-//Mid Gloucestershire Branch - ECPv6.15.20//NONSGML v1.0//EN
CALSCALE:GREGORIAN
METHOD:PUBLISH
X-WR-CALNAME:Mid Gloucestershire Branch
X-ORIGINAL-URL:https://midgloucestershire.camra.org.uk
X-WR-CALDESC:Events for Mid Gloucestershire Branch
REFRESH-INTERVAL;VALUE=DURATION:PT1H
X-Robots-Tag:noindex
X-PUBLISHED-TTL:PT1H
BEGIN:VTIMEZONE
TZID:UTC
BEGIN:STANDARD
TZOFFSETFROM:+0000
TZOFFSETTO:+0000
TZNAME:UTC
DTSTART:20250101T000000
END:STANDARD
END:VTIMEZONE
BEGIN:VTIMEZONE
TZID:Europe/London
BEGIN:DAYLIGHT
TZOFFSETFROM:+0000
TZOFFSETTO:+0100
TZNAME:BST
DTSTART:20250330T010000
END:DAYLIGHT
BEGIN:STANDARD
TZOFFSETFROM:+0100
TZOFFSETTO:+0000
TZNAME:GMT
DTSTART:20251026T010000
END:STANDARD
BEGIN:DAYLIGHT
TZOFFSETFROM:+0000
TZOFFSETTO:+0100
TZNAME:BST
DTSTART:20260329T010000
END:DAYLIGHT
BEGIN:STANDARD
TZOFFSETFROM:+0100
TZOFFSETTO:+0000
TZNAME:GMT
DTSTART:20261025T010000
END:STANDARD
BEGIN:DAYLIGHT
TZOFFSETFROM:+0000
TZOFFSETTO:+0100
TZNAME:BST
DTSTART:20270328T010000
END:DAYLIGHT
BEGIN:STANDARD
TZOFFSETFROM:+0100
TZOFFSETTO:+0000
TZNAME:GMT
DTSTART:20271031T010000
END:STANDARD
END:VTIMEZONE
BEGIN:VEVENT
DTSTART;TZID=UTC:20260121T193000
DTEND;TZID=UTC:20260121T220000
DTSTAMP:20260424T035920
CREATED:20260107T144919Z
LAST-MODIFIED:20260107T145406Z
UID:2125-1769023800-1769032800@midgloucestershire.camra.org.uk
SUMMARY:Stroud Social at Stroud Brewery (including Tour*)
DESCRIPTION:We’re delighted to be visiting Stroud Brewery on Wednesday 21st January\, with a 7:30pm start\, for a relaxed social evening hosted by our largest local independent brewer. \nThe evening will include an informal brewery tour and a chat with the brewing team\, offering a behind-the-scenes look at how their beers are made and a chance to hear their story. This event is open and welcoming to: \n\nCAMRA members who regularly come along\nMembers who haven’t yet made it to a local event\nAnyone interested in CAMRA and curious about what we do\n\nFor anyone new to CAMRA: we’re a member-led organisation that supports independent breweries and pubs\, and helps people discover and enjoy great local beer. \nThere’s no formality — just friendly conversation\, local brewing\, and the chance to meet people who care about the local beer scene. \nPlaces are limited\, please confirm attendance\, places will be confirmed on a first come first served basis.  If you’ve ever thought about getting involved locally\, this is a great opportunity to come along and see what CAMRA is all about. If you have not booked a place you are welcome to meet with us and drink at the bar\, which we shall be doing. \nMany thanks to Greg and Mike at Stroud Brewery for suggesting/hosting and taking the time to show us around and share their story.
URL:https://midgloucestershire.camra.org.uk/event/stroud-social-at-stroud-brewery-including-tour/
LOCATION:Stroud Brewery\, Kingfisher Business Park\, London Road\, Thrupp\, GL5 2BY
CATEGORIES:Stroud Social
ATTACH;FMTTYPE=image/png:https://midgloucestershire.camra.org.uk/wp-content/uploads/2025/04/Icon_Str_2-e1744619556885.png
ORGANIZER;CN="CAMRA in Stroud":MAILTO:stroud@midgloucestershire.camra.org.uk
END:VEVENT
BEGIN:VEVENT
DTSTART;TZID=UTC:20260122T200000
DTEND;TZID=UTC:20260122T213000
DTSTAMP:20260424T035920
CREATED:20260112T124334Z
LAST-MODIFIED:20260112T124334Z
UID:2186-1769112000-1769117400@midgloucestershire.camra.org.uk
SUMMARY:Forest of Dean Social - Dog House\, Coleford
DESCRIPTION:
URL:https://midgloucestershire.camra.org.uk/event/forest-of-dean-social-dog-house-coleford-2/
LOCATION:Dog House\, Coleford\, 13-15 John Street\, Coleford\, Gloucestershire\, GL16 8AP\, United Kingdom
CATEGORIES:Forest of Dean Social
ATTACH;FMTTYPE=image/png:https://midgloucestershire.camra.org.uk/wp-content/uploads/2025/04/Icon_FoD_2-e1744619566960.png
ORGANIZER;CN="CAMRA in Forest of Dean":MAILTO:forestofdean@midgloucestershire.camra.org.uk
END:VEVENT
BEGIN:VEVENT
DTSTART;TZID=UTC:20260129T193000
DTEND;TZID=UTC:20260129T210000
DTSTAMP:20260424T035920
CREATED:20260120T135007Z
LAST-MODIFIED:20260120T135223Z
UID:2218-1769715000-1769720400@midgloucestershire.camra.org.uk
SUMMARY:Gloucester Club of the Year 2026 Presentation
DESCRIPTION:The Gloucester Area Club of the Year winner\, The Churchdown Club\, 1A Church Road\, Churchdown\, Gloucester\, GL3 2ER. \n  \nTheir presentation is at 7.30pm on Thursday 29 January 2026.
URL:https://midgloucestershire.camra.org.uk/event/gloucester-club-of-the-year-presentation/
LOCATION:Churchdown Club\, Churchdown\, 1A Church Road\, Churchdown\, Gloucester\, GL3 2ER
CATEGORIES:Awards,Gloucester Social
ATTACH;FMTTYPE=image/png:https://midgloucestershire.camra.org.uk/wp-content/uploads/2025/04/Icon_CoG_2-e1744619546655.png
END:VEVENT
BEGIN:VEVENT
DTSTART;TZID=UTC:20260130T170000
DTEND;TZID=UTC:20260130T183000
DTSTAMP:20260424T035920
CREATED:20260120T135218Z
LAST-MODIFIED:20260120T135218Z
UID:2221-1769792400-1769797800@midgloucestershire.camra.org.uk
SUMMARY:Gloucester Pub of the Year 2026 Presentation
DESCRIPTION:The Gloucester Area Pub of the Year winner\, The Pelican Inn\, 4 St Mary’s Street\, Gloucester\, GL1 2QR. \nTheir presentation is at 5.00pm on Friday 30 January 2026.
URL:https://midgloucestershire.camra.org.uk/event/gloucester-pub-of-the-year-2026-presentation/
LOCATION:The Pelican\, Gloucester
CATEGORIES:Awards,Gloucester Social
ATTACH;FMTTYPE=image/png:https://midgloucestershire.camra.org.uk/wp-content/uploads/2025/04/Icon_CoG_2-e1744619546655.png
END:VEVENT
BEGIN:VEVENT
DTSTART;TZID=UTC:20260205T200000
DTEND;TZID=UTC:20260205T220000
DTSTAMP:20260424T035920
CREATED:20260112T124548Z
LAST-MODIFIED:20260112T131117Z
UID:2188-1770321600-1770328800@midgloucestershire.camra.org.uk
SUMMARY:Pub of the Year Presentation 2026 - Forest of Dean
DESCRIPTION:The Forest of Dean pub of the year is the Dog & Muffler in Joyford\, near Berry Hill. Please join us for the presentation on the 5th February.
URL:https://midgloucestershire.camra.org.uk/event/pub-of-the-year-presentation-2026-forest-of-dean/
LOCATION:Dog & Muffler\, Joyford\, GL16 7AS
CATEGORIES:Forest of Dean Social
ATTACH;FMTTYPE=image/png:https://midgloucestershire.camra.org.uk/wp-content/uploads/2025/04/Icon_FoD_2-e1744619566960.png
ORGANIZER;CN="CAMRA in Forest of Dean":MAILTO:forestofdean@midgloucestershire.camra.org.uk
END:VEVENT
BEGIN:VEVENT
DTSTART;TZID=UTC:20260219T190000
DTEND;TZID=UTC:20260219T210000
DTSTAMP:20260424T035920
CREATED:20260212T155141Z
LAST-MODIFIED:20260212T155141Z
UID:2252-1771527600-1771534800@midgloucestershire.camra.org.uk
SUMMARY:Dursley Pub of the Year Presentation 2026 - The Old Spot Inn\, Dursley
DESCRIPTION:
URL:https://midgloucestershire.camra.org.uk/event/dursley-pub-of-the-year-presentation-2026-the-old-spot-inn-dursley/
LOCATION:Old Spot\, Dursley\, 2 Hill Road\, Dursley\, Gloucestershire\, GL11 4JQ\, United Kingdom
CATEGORIES:Dursley & District Social
ATTACH;FMTTYPE=image/png:https://midgloucestershire.camra.org.uk/wp-content/uploads/2026/02/POTY_2026_DUR_OS-e1770647996676.png
ORGANIZER;CN="CAMRA in Dursley":MAILTO:dursley@midgloucestershire.camra.org.uk
END:VEVENT
BEGIN:VEVENT
DTSTART;TZID=UTC:20260219T200000
DTEND;TZID=UTC:20260219T220000
DTSTAMP:20260424T035920
CREATED:20260112T124708Z
LAST-MODIFIED:20260112T124708Z
UID:2191-1771531200-1771538400@midgloucestershire.camra.org.uk
SUMMARY:Forest of Dean Social - The Cross\, Aylburton
DESCRIPTION:
URL:https://midgloucestershire.camra.org.uk/event/forest-of-dean-social-the-cross-aylburton/
LOCATION:The Cross\, Aylburton\, GL15 6DE
CATEGORIES:Forest of Dean Social
ATTACH;FMTTYPE=image/png:https://midgloucestershire.camra.org.uk/wp-content/uploads/2025/04/Icon_FoD_2-e1744619566960.png
ORGANIZER;CN="CAMRA in Forest of Dean":MAILTO:forestofdean@midgloucestershire.camra.org.uk
END:VEVENT
BEGIN:VEVENT
DTSTART;TZID=Europe/London:20260305T190000
DTEND;TZID=Europe/London:20260305T220000
DTSTAMP:20260424T035920
CREATED:20260305T145657Z
LAST-MODIFIED:20260305T145657Z
UID:2290-1772737200-1772748000@midgloucestershire.camra.org.uk
SUMMARY:Cirencester Social
DESCRIPTION:Evening meet in Cirencester to visit The Drillmans Arms\, The Hop Kettle maybe The Fleece and The Marlborough. Meet in The Drillmans around 7pm although time will be confirmed.
URL:https://midgloucestershire.camra.org.uk/event/cirencester-social-2/
LOCATION:Drillman’s Arms\, Cirencester\, 34 Gloucester Road\, Cirencester\, Gloucestershire\, GL7 2JY\, United Kingdom
CATEGORIES:Cirencester Social
ATTACH;FMTTYPE=image/png:https://midgloucestershire.camra.org.uk/wp-content/uploads/2025/04/Icon_Cir_2-e1744619527128.png
ORGANIZER;CN="CAMRA in Cirencester":MAILTO:cirencester@midgloucestershire.camra.org.uk
END:VEVENT
BEGIN:VEVENT
DTSTART;TZID=UTC:20260305T200000
DTEND;TZID=UTC:20260305T220000
DTSTAMP:20260424T035920
CREATED:20260112T124809Z
LAST-MODIFIED:20260112T125532Z
UID:2194-1772740800-1772748000@midgloucestershire.camra.org.uk
SUMMARY:Forest of Dean Social - Heart of Oak\, Drybrook
DESCRIPTION:
URL:https://midgloucestershire.camra.org.uk/event/forest-of-dean-social-heart-of-oak-drybrook/
LOCATION:The Heart of Oak\, Drybrook\, Drybrook\, Gloucestershire\, GL17 9EE\, United Kingdom
CATEGORIES:Forest of Dean Social
ATTACH;FMTTYPE=image/png:https://midgloucestershire.camra.org.uk/wp-content/uploads/2025/04/Icon_FoD_2-e1744619566960.png
ORGANIZER;CN="CAMRA in Forest of Dean":MAILTO:forestofdean@midgloucestershire.camra.org.uk
END:VEVENT
BEGIN:VEVENT
DTSTART;VALUE=DATE:20260314
DTEND;VALUE=DATE:20260315
DTSTAMP:20260424T035920
CREATED:20260305T144718Z
LAST-MODIFIED:20260305T150353Z
UID:2278-1773446400-1773532799@midgloucestershire.camra.org.uk
SUMMARY:Cirencester Visit Cheltenham
DESCRIPTION:Day trip on Stagecoach to Cheltenham visiting a couple of ‘Spoons\, The Railway\, The Swan\, The Sandford Ale House\, Strand\, The Motor Club and possibly the Mad Dog Brewery Co. as the mood takes us. \nNote\, made this a Saturday due to restricted opening times in week and to enable those that work to join in. Bus times (Cirencester) out 10.47 and returns on the 17.10 arriving 17.49
URL:https://midgloucestershire.camra.org.uk/event/cirencester-visit-cheltenham/
CATEGORIES:Cirencester Social
ATTACH;FMTTYPE=image/png:https://midgloucestershire.camra.org.uk/wp-content/uploads/2025/04/Icon_Cir_2-e1744619527128.png
ORGANIZER;CN="CAMRA in Cirencester":MAILTO:cirencester@midgloucestershire.camra.org.uk
END:VEVENT
BEGIN:VEVENT
DTSTART;TZID=UTC:20260318T153000
DTEND;TZID=UTC:20260318T200000
DTSTAMP:20260424T035920
CREATED:20260316T100028Z
LAST-MODIFIED:20260316T100028Z
UID:2318-1773847800-1773864000@midgloucestershire.camra.org.uk
SUMMARY:Mother's Pride - Gloucester
DESCRIPTION:Following an overwhelming demand for a change of venue to watch the film\, Mothers Pride\, we will now be going to the Sherborne cinema Kingsholm.\nIt is about a 10 minute walk from the bus or train stations.\nTransport is as follows.\nTrain leaves Stroud 1559 arriving Glos 1616.\nReturn trains leave 19 minutes past the hour Arrive 35 minutes past the hour.\nBus 63 leaves Stroud (bay c) 1525 arriving Glos 1614.\nReturn bus 64 1915. Arriving 2005\n63 1940 Arriving 2013\n64 2015 Arriving 2103\n64 2115 Arriving 2203
URL:https://midgloucestershire.camra.org.uk/event/mothers-pride-gloucester/
CATEGORIES:Stroud Social
ATTACH;FMTTYPE=image/png:https://midgloucestershire.camra.org.uk/wp-content/uploads/2025/04/Icon_Str_2-e1744619556885.png
ORGANIZER;CN="CAMRA in Stroud":MAILTO:stroud@midgloucestershire.camra.org.uk
END:VEVENT
BEGIN:VEVENT
DTSTART;TZID=UTC:20260319T200000
DTEND;TZID=UTC:20260319T220000
DTSTAMP:20260424T035920
CREATED:20260112T124930Z
LAST-MODIFIED:20260112T125016Z
UID:2196-1773950400-1773957600@midgloucestershire.camra.org.uk
SUMMARY:Forest of Dean Social - Railway Inn\, Newnham
DESCRIPTION:
URL:https://midgloucestershire.camra.org.uk/event/forest-of-dean-social-railway-inn-newnham/
LOCATION:Railway Inn\, Newnham\, GL14 1DA
CATEGORIES:Forest of Dean Social
ATTACH;FMTTYPE=image/png:https://midgloucestershire.camra.org.uk/wp-content/uploads/2025/04/Icon_FoD_2-e1744619566960.png
ORGANIZER;CN="CAMRA in Forest of Dean":MAILTO:forestofdean@midgloucestershire.camra.org.uk
END:VEVENT
BEGIN:VEVENT
DTSTART;TZID=UTC:20260320T100000
DTEND;TZID=UTC:20260320T170000
DTSTAMP:20260424T035920
CREATED:20260305T144828Z
LAST-MODIFIED:20260305T144828Z
UID:2280-1774000800-1774026000@midgloucestershire.camra.org.uk
SUMMARY:Cirencester at the Pelican Beer Festival
DESCRIPTION:A few of us are planning to go to The Pelican beer festival in Gloucester so added to the social calendar 10.25 bus (Cirencester). We get there nice and early so should get a seat at this very popular event.
URL:https://midgloucestershire.camra.org.uk/event/cirencester-at-the-pelican-beer-festival/
CATEGORIES:Cirencester Social
ATTACH;FMTTYPE=image/png:https://midgloucestershire.camra.org.uk/wp-content/uploads/2025/04/Icon_Cir_2-e1744619527128.png
ORGANIZER;CN="CAMRA in Cirencester":MAILTO:cirencester@midgloucestershire.camra.org.uk
END:VEVENT
BEGIN:VEVENT
DTSTART;TZID=UTC:20260329T143000
DTEND;TZID=UTC:20260329T163000
DTSTAMP:20260424T035920
CREATED:20260304T124307Z
LAST-MODIFIED:20260304T124308Z
UID:2266-1774794600-1774801800@midgloucestershire.camra.org.uk
SUMMARY:Stroud Club of the Year 2026 Presentation - Chalford Sports & Social Club
DESCRIPTION:Chalford Sports & Social Club presentation at 2:30pm on Sunday 29 March.\n\n\nThe Chalford Sports & Social Club is Stroud CAMRA Club of the Year for the sixth year running. We will be presenting Ali and Rob Brady with a certificate recording their triumph at the Chalford Sports & Social Club\, Highfield Way\, France Lynch\, Chalford Hill GL6 8LZ at 2:30pm on Sunday 29 March. A light buffet will be provided.Rob Brady runs the Good Beer Company\, a leading local wholesaler\, so an imaginative selection of beers is a given.\nBeer and skittlesThe club boasts a skittle alley that will be available for our use. Bring or wear appropriate footwear if you would like to play.\nWest Country Skittles is one of the distinctive features of pubs (and clubs) in the southwest of England and south Wales. And it is an endangered species. Any pub closure is to be regretted\, but it is always especially saddening when it involves the loss of a skittle alley—as with the closure of Shunters in Stroud or the Kites Nest at Lightpill on the Bath Road\, where the skittle alley has now disappeared under a terrace of new houses.Do come along and raise a glass to Ali\, Rob and the team to celebrate the club’s win.https://www.chalford-ssc.co.uk/\n\n\nCheers\, Tim.
URL:https://midgloucestershire.camra.org.uk/event/stroud-club-of-the-year-2026-presentation-chalford-sports-social-club/
LOCATION:Chalford Sports & Social Club\, France Lynch\, Gloucestershire\, GL6 8LZ\, United Kingdom
CATEGORIES:Stroud Social
ATTACH;FMTTYPE=image/png:https://midgloucestershire.camra.org.uk/wp-content/uploads/2025/04/Icon_Str_2-e1744619556885.png
ORGANIZER;CN="CAMRA in Stroud":MAILTO:stroud@midgloucestershire.camra.org.uk
END:VEVENT
BEGIN:VEVENT
DTSTART;TZID=UTC:20260409T200000
DTEND;TZID=UTC:20260409T220000
DTSTAMP:20260424T035920
CREATED:20260310T161422Z
LAST-MODIFIED:20260310T161422Z
UID:2305-1775764800-1775772000@midgloucestershire.camra.org.uk
SUMMARY:FOD Social - White Horse\, Staunton
DESCRIPTION:
URL:https://midgloucestershire.camra.org.uk/event/fod-social-white-horse-staunton/
CATEGORIES:Forest of Dean Social
ATTACH;FMTTYPE=image/png:https://midgloucestershire.camra.org.uk/wp-content/uploads/2025/04/Icon_FoD_2-e1744619566960.png
ORGANIZER;CN="CAMRA in Forest of Dean":MAILTO:forestofdean@midgloucestershire.camra.org.uk
END:VEVENT
BEGIN:VEVENT
DTSTART;TZID=UTC:20260413T200000
DTEND;TZID=UTC:20260413T220000
DTSTAMP:20260424T035920
CREATED:20260402T140250Z
LAST-MODIFIED:20260402T140906Z
UID:2327-1776110400-1776117600@midgloucestershire.camra.org.uk
SUMMARY:Monday Dursley Social - Old Spot\, Dursley
DESCRIPTION:
URL:https://midgloucestershire.camra.org.uk/event/monday-dursley-social-old-spot-dursley/
LOCATION:Old Spot\, Dursley\, 2 Hill Road\, Dursley\, Gloucestershire\, GL11 4JQ\, United Kingdom
CATEGORIES:Dursley & District Social
ATTACH;FMTTYPE=image/png:https://midgloucestershire.camra.org.uk/wp-content/uploads/2025/04/Icon_DaD_2-e1744619579442.png
ORGANIZER;CN="CAMRA in Dursley":MAILTO:dursley@midgloucestershire.camra.org.uk
END:VEVENT
BEGIN:VEVENT
DTSTART;TZID=UTC:20260414T190000
DTEND;TZID=UTC:20260414T220000
DTSTAMP:20260424T035920
CREATED:20260305T144926Z
LAST-MODIFIED:20260305T144926Z
UID:2282-1776193200-1776204000@midgloucestershire.camra.org.uk
SUMMARY:Cirencester Social
DESCRIPTION:Evening meet in Cirencester to visit The Drillmans Arms\, The Hop Kettle maybe The Fleece and The Marlborough. Meet in The Drillmans around 7pm although time will be confirmed.
URL:https://midgloucestershire.camra.org.uk/event/cirencester-social/
LOCATION:Drillman’s Arms\, Cirencester\, 34 Gloucester Road\, Cirencester\, Gloucestershire\, GL7 2JY\, United Kingdom
CATEGORIES:Cirencester Social
ATTACH;FMTTYPE=image/png:https://midgloucestershire.camra.org.uk/wp-content/uploads/2025/04/Icon_Cir_2-e1744619527128.png
ORGANIZER;CN="CAMRA in Cirencester":MAILTO:cirencester@midgloucestershire.camra.org.uk
END:VEVENT
BEGIN:VEVENT
DTSTART;TZID=UTC:20260420T200000
DTEND;TZID=UTC:20260420T220000
DTSTAMP:20260424T035920
CREATED:20260402T140409Z
LAST-MODIFIED:20260402T140409Z
UID:2329-1776715200-1776722400@midgloucestershire.camra.org.uk
SUMMARY:Monday Dursley Social - Old Spot\, Dursley
DESCRIPTION:
URL:https://midgloucestershire.camra.org.uk/event/monday-dursley-social-old-spot-dursley-2/
LOCATION:Old Spot\, Dursley\, 2 Hill Road\, Dursley\, Gloucestershire\, GL11 4JQ\, United Kingdom
CATEGORIES:Dursley & District Social
ATTACH;FMTTYPE=image/png:https://midgloucestershire.camra.org.uk/wp-content/uploads/2025/04/Icon_DaD_2-e1744619579442.png
ORGANIZER;CN="CAMRA in Dursley":MAILTO:dursley@midgloucestershire.camra.org.uk
END:VEVENT
BEGIN:VEVENT
DTSTART;TZID=UTC:20260422T190000
DTEND;TZID=UTC:20260422T220000
DTSTAMP:20260424T035920
CREATED:20260409T140340Z
LAST-MODIFIED:20260409T140340Z
UID:2373-1776884400-1776895200@midgloucestershire.camra.org.uk
SUMMARY:Stroud Social - George Inn & Hog
DESCRIPTION:Timings and venues are to be confirmed; please contact Tony Hill @ chair@stroud.camra.org.uk.
URL:https://midgloucestershire.camra.org.uk/event/stroud-social-george-inn-hog/
CATEGORIES:Stroud Social
ATTACH;FMTTYPE=image/png:https://midgloucestershire.camra.org.uk/wp-content/uploads/2025/04/Icon_Str_2-e1744619556885.png
ORGANIZER;CN="CAMRA in Stroud":MAILTO:stroud@midgloucestershire.camra.org.uk
END:VEVENT
BEGIN:VEVENT
DTSTART;TZID=UTC:20260427T200000
DTEND;TZID=UTC:20260427T220000
DTSTAMP:20260424T035920
CREATED:20260402T140451Z
LAST-MODIFIED:20260402T140451Z
UID:2331-1777320000-1777327200@midgloucestershire.camra.org.uk
SUMMARY:Monday Dursley Social - Old Spot\, Dursley
DESCRIPTION:
URL:https://midgloucestershire.camra.org.uk/event/monday-dursley-social-old-spot-dursley-3/
LOCATION:Old Spot\, Dursley\, 2 Hill Road\, Dursley\, Gloucestershire\, GL11 4JQ\, United Kingdom
CATEGORIES:Dursley & District Social
ATTACH;FMTTYPE=image/png:https://midgloucestershire.camra.org.uk/wp-content/uploads/2025/04/Icon_DaD_2-e1744619579442.png
ORGANIZER;CN="CAMRA in Dursley":MAILTO:dursley@midgloucestershire.camra.org.uk
END:VEVENT
BEGIN:VEVENT
DTSTART;TZID=UTC:20260430T200000
DTEND;TZID=UTC:20260430T220000
DTSTAMP:20260424T035920
CREATED:20260310T161520Z
LAST-MODIFIED:20260310T161520Z
UID:2307-1777579200-1777586400@midgloucestershire.camra.org.uk
SUMMARY:FOD Social - Forge Hammer\, Lydbrook
DESCRIPTION:
URL:https://midgloucestershire.camra.org.uk/event/fod-social-forge-hammer-lydbrook/
CATEGORIES:Forest of Dean Social
ATTACH;FMTTYPE=image/png:https://midgloucestershire.camra.org.uk/wp-content/uploads/2025/04/Icon_FoD_2-e1744619566960.png
ORGANIZER;CN="CAMRA in Forest of Dean":MAILTO:forestofdean@midgloucestershire.camra.org.uk
END:VEVENT
BEGIN:VEVENT
DTSTART;TZID=UTC:20260504T200000
DTEND;TZID=UTC:20260504T220000
DTSTAMP:20260424T035920
CREATED:20260402T140527Z
LAST-MODIFIED:20260402T140527Z
UID:2333-1777924800-1777932000@midgloucestershire.camra.org.uk
SUMMARY:Monday Dursley Social - Old Spot\, Dursley
DESCRIPTION:
URL:https://midgloucestershire.camra.org.uk/event/monday-dursley-social-old-spot-dursley-4/
LOCATION:Old Spot\, Dursley\, 2 Hill Road\, Dursley\, Gloucestershire\, GL11 4JQ\, United Kingdom
CATEGORIES:Dursley & District Social
ATTACH;FMTTYPE=image/png:https://midgloucestershire.camra.org.uk/wp-content/uploads/2025/04/Icon_DaD_2-e1744619579442.png
ORGANIZER;CN="CAMRA in Dursley":MAILTO:dursley@midgloucestershire.camra.org.uk
END:VEVENT
BEGIN:VEVENT
DTSTART;TZID=UTC:20260507T200000
DTEND;TZID=UTC:20260507T220000
DTSTAMP:20260424T035920
CREATED:20260310T161607Z
LAST-MODIFIED:20260310T161607Z
UID:2309-1778184000-1778191200@midgloucestershire.camra.org.uk
SUMMARY:FOD Social - Cock Inn\, Blakeney
DESCRIPTION:
URL:https://midgloucestershire.camra.org.uk/event/fod-social-cock-inn-blakeney/
CATEGORIES:Forest of Dean Social
ATTACH;FMTTYPE=image/png:https://midgloucestershire.camra.org.uk/wp-content/uploads/2025/04/Icon_FoD_2-e1744619566960.png
ORGANIZER;CN="CAMRA in Forest of Dean":MAILTO:forestofdean@midgloucestershire.camra.org.uk
END:VEVENT
BEGIN:VEVENT
DTSTART;TZID=UTC:20260511T200000
DTEND;TZID=UTC:20260511T220000
DTSTAMP:20260424T035920
CREATED:20260402T140559Z
LAST-MODIFIED:20260402T140559Z
UID:2335-1778529600-1778536800@midgloucestershire.camra.org.uk
SUMMARY:Monday Dursley Social - Old Spot\, Dursley
DESCRIPTION:
URL:https://midgloucestershire.camra.org.uk/event/monday-dursley-social-old-spot-dursley-5/
LOCATION:Old Spot\, Dursley\, 2 Hill Road\, Dursley\, Gloucestershire\, GL11 4JQ\, United Kingdom
CATEGORIES:Dursley & District Social
ATTACH;FMTTYPE=image/png:https://midgloucestershire.camra.org.uk/wp-content/uploads/2025/04/Icon_DaD_2-e1744619579442.png
ORGANIZER;CN="CAMRA in Dursley":MAILTO:dursley@midgloucestershire.camra.org.uk
END:VEVENT
BEGIN:VEVENT
DTSTART;TZID=UTC:20260512T100000
DTEND;TZID=UTC:20260512T190000
DTSTAMP:20260424T035920
CREATED:20260305T145029Z
LAST-MODIFIED:20260305T145029Z
UID:2284-1778580000-1778612400@midgloucestershire.camra.org.uk
SUMMARY:Cirencester Visit Gloucester
DESCRIPTION:Gloucester possibly start at Wetherspoons due to time of arrival\, Brewhouse & Kitchen (food)\,The Fountain (Food?)\, Drunken Duck\, The Hop Kettle and finish at The Pelican \nNote can’t be done on a Saturday due to restricted bus service\nBus times (Cirencester) out 10.25 to arrive 11.12 and the bus back at 16.40 or 18.40 final bus time out to be decided
URL:https://midgloucestershire.camra.org.uk/event/cirencester-visit-gloucester/
CATEGORIES:Cirencester Social
ATTACH;FMTTYPE=image/png:https://midgloucestershire.camra.org.uk/wp-content/uploads/2025/04/Icon_Cir_2-e1744619527128.png
ORGANIZER;CN="CAMRA in Cirencester":MAILTO:cirencester@midgloucestershire.camra.org.uk
END:VEVENT
BEGIN:VEVENT
DTSTART;TZID=UTC:20260518T200000
DTEND;TZID=UTC:20260518T220000
DTSTAMP:20260424T035920
CREATED:20260402T140634Z
LAST-MODIFIED:20260402T140635Z
UID:2337-1779134400-1779141600@midgloucestershire.camra.org.uk
SUMMARY:Monday Dursley Social - Old Spot\, Dursley
DESCRIPTION:
URL:https://midgloucestershire.camra.org.uk/event/monday-dursley-social-old-spot-dursley-6/
LOCATION:Old Spot\, Dursley\, 2 Hill Road\, Dursley\, Gloucestershire\, GL11 4JQ\, United Kingdom
CATEGORIES:Dursley & District Social
ATTACH;FMTTYPE=image/png:https://midgloucestershire.camra.org.uk/wp-content/uploads/2025/04/Icon_DaD_2-e1744619579442.png
ORGANIZER;CN="CAMRA in Dursley":MAILTO:dursley@midgloucestershire.camra.org.uk
END:VEVENT
BEGIN:VEVENT
DTSTART;TZID=UTC:20260521T200000
DTEND;TZID=UTC:20260521T220000
DTSTAMP:20260424T035920
CREATED:20260310T161310Z
LAST-MODIFIED:20260310T161310Z
UID:2303-1779393600-1779400800@midgloucestershire.camra.org.uk
SUMMARY:FoD Social - Golden Lion\, Cinderford
DESCRIPTION:
URL:https://midgloucestershire.camra.org.uk/event/fod-social-golden-lion-cinderford/
CATEGORIES:Forest of Dean Social
ATTACH;FMTTYPE=image/png:https://midgloucestershire.camra.org.uk/wp-content/uploads/2025/04/Icon_FoD_2-e1744619566960.png
ORGANIZER;CN="CAMRA in Forest of Dean":MAILTO:forestofdean@midgloucestershire.camra.org.uk
END:VEVENT
BEGIN:VEVENT
DTSTART;TZID=UTC:20260525T200000
DTEND;TZID=UTC:20260525T220000
DTSTAMP:20260424T035920
CREATED:20260402T140710Z
LAST-MODIFIED:20260402T140711Z
UID:2339-1779739200-1779746400@midgloucestershire.camra.org.uk
SUMMARY:Monday Dursley Social - Old Spot\, Dursley
DESCRIPTION:
URL:https://midgloucestershire.camra.org.uk/event/monday-dursley-social-old-spot-dursley-7/
LOCATION:Old Spot\, Dursley\, 2 Hill Road\, Dursley\, Gloucestershire\, GL11 4JQ\, United Kingdom
CATEGORIES:Dursley & District Social
ATTACH;FMTTYPE=image/png:https://midgloucestershire.camra.org.uk/wp-content/uploads/2025/04/Icon_DaD_2-e1744619579442.png
ORGANIZER;CN="CAMRA in Dursley":MAILTO:dursley@midgloucestershire.camra.org.uk
END:VEVENT
BEGIN:VEVENT
DTSTART;TZID=Europe/London:20260707T090000
DTEND;TZID=Europe/London:20260707T210000
DTSTAMP:20260424T035920
CREATED:20260305T145447Z
LAST-MODIFIED:20260305T145447Z
UID:2288-1783414800-1783458000@midgloucestershire.camra.org.uk
SUMMARY:Cirencester Visit London
DESCRIPTION:Day trip to London on National Express 9.40 out Cirencester and 19.00 return from Victoria. Route TBA prior to the day\, this is always a great day out and we manage to visit some of The Capitals finest pubs. If you are thinking of joining us it is wise to book your National Express ticket early.
URL:https://midgloucestershire.camra.org.uk/event/cirencester-visit-london/
CATEGORIES:Cirencester Social
ATTACH;FMTTYPE=image/png:https://midgloucestershire.camra.org.uk/wp-content/uploads/2025/04/Icon_Cir_2-e1744619527128.png
ORGANIZER;CN="CAMRA in Cirencester":MAILTO:cirencester@midgloucestershire.camra.org.uk
END:VEVENT
BEGIN:VEVENT
DTSTART;TZID=Europe/London:20260908T090000
DTEND;TZID=Europe/London:20260908T190000
DTSTAMP:20260424T035920
CREATED:20260305T145752Z
LAST-MODIFIED:20260305T145752Z
UID:2292-1788858000-1788894000@midgloucestershire.camra.org.uk
SUMMARY:Cirencester Visit Bristol
DESCRIPTION:Day trip to Bristol on Stagecoach and train\, visiting the King’s Head\, The Cornubia\, Seven Stars\, Bridge Inn and Bank Tavern\, with a possible start at the Knights Templar for food. Leaving Cirencester at 9.25\, arriving 11.35\, and departing 16.30 for return at 18.27.
URL:https://midgloucestershire.camra.org.uk/event/cirencester-visit-bristol/
CATEGORIES:Cirencester Social
ATTACH;FMTTYPE=image/png:https://midgloucestershire.camra.org.uk/wp-content/uploads/2025/04/Icon_Cir_2-e1744619527128.png
ORGANIZER;CN="CAMRA in Cirencester":MAILTO:cirencester@midgloucestershire.camra.org.uk
END:VEVENT
END:VCALENDAR