BEGIN:VCALENDAR
VERSION:2.0
PRODID:-//Mid Gloucestershire Branch - ECPv6.15.20//NONSGML v1.0//EN
CALSCALE:GREGORIAN
METHOD:PUBLISH
X-ORIGINAL-URL:https://midgloucestershire.camra.org.uk
X-WR-CALDESC:Events for Mid Gloucestershire Branch
REFRESH-INTERVAL;VALUE=DURATION:PT1H
X-Robots-Tag:noindex
X-PUBLISHED-TTL:PT1H
BEGIN:VTIMEZONE
TZID:Europe/London
BEGIN:DAYLIGHT
TZOFFSETFROM:+0000
TZOFFSETTO:+0100
TZNAME:BST
DTSTART:20250330T010000
END:DAYLIGHT
BEGIN:STANDARD
TZOFFSETFROM:+0100
TZOFFSETTO:+0000
TZNAME:GMT
DTSTART:20251026T010000
END:STANDARD
BEGIN:DAYLIGHT
TZOFFSETFROM:+0000
TZOFFSETTO:+0100
TZNAME:BST
DTSTART:20260329T010000
END:DAYLIGHT
BEGIN:STANDARD
TZOFFSETFROM:+0100
TZOFFSETTO:+0000
TZNAME:GMT
DTSTART:20261025T010000
END:STANDARD
BEGIN:DAYLIGHT
TZOFFSETFROM:+0000
TZOFFSETTO:+0100
TZNAME:BST
DTSTART:20270328T010000
END:DAYLIGHT
BEGIN:STANDARD
TZOFFSETFROM:+0100
TZOFFSETTO:+0000
TZNAME:GMT
DTSTART:20271031T010000
END:STANDARD
END:VTIMEZONE
BEGIN:VEVENT
DTSTART;TZID=Europe/London:20261013T190000
DTEND;TZID=Europe/London:20261013T220000
DTSTAMP:20260423T225500
CREATED:20260305T145848Z
LAST-MODIFIED:20260305T145849Z
UID:2294-1791918000-1791928800@midgloucestershire.camra.org.uk
SUMMARY:Cirencester Social
DESCRIPTION:Evening meet in Cirencester to visit The Drillmans Arms\, The Hop Kettle maybe The Fleece and The Marlborough. Meet in The Drillmans around 7pm although time will be confirmed.
URL:https://midgloucestershire.camra.org.uk/event/cirencester-social-3/
LOCATION:Drillman’s Arms\, Cirencester\, 34 Gloucester Road\, Cirencester\, Gloucestershire\, GL7 2JY\, United Kingdom
CATEGORIES:Cirencester Social
ATTACH;FMTTYPE=image/png:https://midgloucestershire.camra.org.uk/wp-content/uploads/2025/04/Icon_Cir_2-e1744619527128.png
ORGANIZER;CN="CAMRA in Cirencester":MAILTO:cirencester@midgloucestershire.camra.org.uk
END:VEVENT
END:VCALENDAR