BEGIN:VCALENDAR
VERSION:2.0
PRODID:-//Mid Gloucestershire Branch - ECPv6.15.20//NONSGML v1.0//EN
CALSCALE:GREGORIAN
METHOD:PUBLISH
X-WR-CALNAME:Mid Gloucestershire Branch
X-ORIGINAL-URL:https://midgloucestershire.camra.org.uk
X-WR-CALDESC:Events for Mid Gloucestershire Branch
REFRESH-INTERVAL;VALUE=DURATION:PT1H
X-Robots-Tag:noindex
X-PUBLISHED-TTL:PT1H
BEGIN:VTIMEZONE
TZID:Europe/London
BEGIN:DAYLIGHT
TZOFFSETFROM:+0000
TZOFFSETTO:+0100
TZNAME:BST
DTSTART:20250330T010000
END:DAYLIGHT
BEGIN:STANDARD
TZOFFSETFROM:+0100
TZOFFSETTO:+0000
TZNAME:GMT
DTSTART:20251026T010000
END:STANDARD
BEGIN:DAYLIGHT
TZOFFSETFROM:+0000
TZOFFSETTO:+0100
TZNAME:BST
DTSTART:20260329T010000
END:DAYLIGHT
BEGIN:STANDARD
TZOFFSETFROM:+0100
TZOFFSETTO:+0000
TZNAME:GMT
DTSTART:20261025T010000
END:STANDARD
BEGIN:DAYLIGHT
TZOFFSETFROM:+0000
TZOFFSETTO:+0100
TZNAME:BST
DTSTART:20270328T010000
END:DAYLIGHT
BEGIN:STANDARD
TZOFFSETFROM:+0100
TZOFFSETTO:+0000
TZNAME:GMT
DTSTART:20271031T010000
END:STANDARD
END:VTIMEZONE
BEGIN:VEVENT
DTSTART;TZID=Europe/London:20260707T090000
DTEND;TZID=Europe/London:20260707T210000
DTSTAMP:20260423T171740
CREATED:20260305T145447Z
LAST-MODIFIED:20260305T145447Z
UID:2288-1783414800-1783458000@midgloucestershire.camra.org.uk
SUMMARY:Cirencester Visit London
DESCRIPTION:Day trip to London on National Express 9.40 out Cirencester and 19.00 return from Victoria. Route TBA prior to the day\, this is always a great day out and we manage to visit some of The Capitals finest pubs. If you are thinking of joining us it is wise to book your National Express ticket early.
URL:https://midgloucestershire.camra.org.uk/event/cirencester-visit-london/
CATEGORIES:Cirencester Social
ATTACH;FMTTYPE=image/png:https://midgloucestershire.camra.org.uk/wp-content/uploads/2025/04/Icon_Cir_2-e1744619527128.png
ORGANIZER;CN="CAMRA in Cirencester":MAILTO:cirencester@midgloucestershire.camra.org.uk
END:VEVENT
END:VCALENDAR