BEGIN:VCALENDAR
VERSION:2.0
PRODID:-//Mid Gloucestershire Branch - ECPv6.15.20//NONSGML v1.0//EN
CALSCALE:GREGORIAN
METHOD:PUBLISH
X-WR-CALNAME:Mid Gloucestershire Branch
X-ORIGINAL-URL:https://midgloucestershire.camra.org.uk
X-WR-CALDESC:Events for Mid Gloucestershire Branch
REFRESH-INTERVAL;VALUE=DURATION:PT1H
X-Robots-Tag:noindex
X-PUBLISHED-TTL:PT1H
BEGIN:VTIMEZONE
TZID:UTC
BEGIN:STANDARD
TZOFFSETFROM:+0000
TZOFFSETTO:+0000
TZNAME:UTC
DTSTART:20250101T000000
END:STANDARD
END:VTIMEZONE
BEGIN:VEVENT
DTSTART;TZID=UTC:20260329T143000
DTEND;TZID=UTC:20260329T163000
DTSTAMP:20260423T141422
CREATED:20260304T124307Z
LAST-MODIFIED:20260304T124308Z
UID:2266-1774794600-1774801800@midgloucestershire.camra.org.uk
SUMMARY:Stroud Club of the Year 2026 Presentation - Chalford Sports & Social Club
DESCRIPTION:Chalford Sports & Social Club presentation at 2:30pm on Sunday 29 March.\n\n\nThe Chalford Sports & Social Club is Stroud CAMRA Club of the Year for the sixth year running. We will be presenting Ali and Rob Brady with a certificate recording their triumph at the Chalford Sports & Social Club\, Highfield Way\, France Lynch\, Chalford Hill GL6 8LZ at 2:30pm on Sunday 29 March. A light buffet will be provided.Rob Brady runs the Good Beer Company\, a leading local wholesaler\, so an imaginative selection of beers is a given.\nBeer and skittlesThe club boasts a skittle alley that will be available for our use. Bring or wear appropriate footwear if you would like to play.\nWest Country Skittles is one of the distinctive features of pubs (and clubs) in the southwest of England and south Wales. And it is an endangered species. Any pub closure is to be regretted\, but it is always especially saddening when it involves the loss of a skittle alley—as with the closure of Shunters in Stroud or the Kites Nest at Lightpill on the Bath Road\, where the skittle alley has now disappeared under a terrace of new houses.Do come along and raise a glass to Ali\, Rob and the team to celebrate the club’s win.https://www.chalford-ssc.co.uk/\n\n\nCheers\, Tim.
URL:https://midgloucestershire.camra.org.uk/event/stroud-club-of-the-year-2026-presentation-chalford-sports-social-club/
LOCATION:Chalford Sports & Social Club\, France Lynch\, Gloucestershire\, GL6 8LZ\, United Kingdom
CATEGORIES:Stroud Social
ATTACH;FMTTYPE=image/png:https://midgloucestershire.camra.org.uk/wp-content/uploads/2025/04/Icon_Str_2-e1744619556885.png
ORGANIZER;CN="CAMRA in Stroud":MAILTO:stroud@midgloucestershire.camra.org.uk
END:VEVENT
END:VCALENDAR