BEGIN:VCALENDAR
VERSION:2.0
PRODID:-//Mid Gloucestershire Branch - ECPv6.15.20//NONSGML v1.0//EN
CALSCALE:GREGORIAN
METHOD:PUBLISH
X-ORIGINAL-URL:https://midgloucestershire.camra.org.uk
X-WR-CALDESC:Events for Mid Gloucestershire Branch
REFRESH-INTERVAL;VALUE=DURATION:PT1H
X-Robots-Tag:noindex
X-PUBLISHED-TTL:PT1H
BEGIN:VTIMEZONE
TZID:UTC
BEGIN:STANDARD
TZOFFSETFROM:+0000
TZOFFSETTO:+0000
TZNAME:UTC
DTSTART:20250101T000000
END:STANDARD
END:VTIMEZONE
BEGIN:VEVENT
DTSTART;VALUE=DATE:20260314
DTEND;VALUE=DATE:20260315
DTSTAMP:20260423T140754
CREATED:20260305T144718Z
LAST-MODIFIED:20260305T150353Z
UID:2278-1773446400-1773532799@midgloucestershire.camra.org.uk
SUMMARY:Cirencester Visit Cheltenham
DESCRIPTION:Day trip on Stagecoach to Cheltenham visiting a couple of ‘Spoons\, The Railway\, The Swan\, The Sandford Ale House\, Strand\, The Motor Club and possibly the Mad Dog Brewery Co. as the mood takes us. \nNote\, made this a Saturday due to restricted opening times in week and to enable those that work to join in. Bus times (Cirencester) out 10.47 and returns on the 17.10 arriving 17.49
URL:https://midgloucestershire.camra.org.uk/event/cirencester-visit-cheltenham/
CATEGORIES:Cirencester Social
ATTACH;FMTTYPE=image/png:https://midgloucestershire.camra.org.uk/wp-content/uploads/2025/04/Icon_Cir_2-e1744619527128.png
ORGANIZER;CN="CAMRA in Cirencester":MAILTO:cirencester@midgloucestershire.camra.org.uk
END:VEVENT
END:VCALENDAR