BEGIN:VCALENDAR
VERSION:2.0
PRODID:-//Mid Gloucestershire Branch - ECPv6.15.20//NONSGML v1.0//EN
CALSCALE:GREGORIAN
METHOD:PUBLISH
X-ORIGINAL-URL:https://midgloucestershire.camra.org.uk
X-WR-CALDESC:Events for Mid Gloucestershire Branch
REFRESH-INTERVAL;VALUE=DURATION:PT1H
X-Robots-Tag:noindex
X-PUBLISHED-TTL:PT1H
BEGIN:VTIMEZONE
TZID:UTC
BEGIN:STANDARD
TZOFFSETFROM:+0000
TZOFFSETTO:+0000
TZNAME:UTC
DTSTART:20240101T000000
END:STANDARD
END:VTIMEZONE
BEGIN:VEVENT
DTSTART;TZID=UTC:20251218T193000
DTEND;TZID=UTC:20251218T220000
DTSTAMP:20260423T193334
CREATED:20251127T192220Z
LAST-MODIFIED:20251127T192221Z
UID:2080-1766086200-1766095200@midgloucestershire.camra.org.uk
SUMMARY:Gloucester Social - Thirsty Pine
DESCRIPTION:Our last Gloucester social for Christmas shall see us start at the Thirsty Pine 19:30.
URL:https://midgloucestershire.camra.org.uk/event/gloucester-social-thirsty-pine/
LOCATION:Thirsty Pine\, 5-7 Brunswick Road\, Gloucester\, Gloucestershire\, GL1 1HG\, United Kingdom
CATEGORIES:Gloucester Social
ATTACH;FMTTYPE=image/png:https://midgloucestershire.camra.org.uk/wp-content/uploads/2025/04/Icon_CoG_2-e1744619546655.png
END:VEVENT
END:VCALENDAR