BEGIN:VCALENDAR
VERSION:2.0
PRODID:-//Mid Gloucestershire Branch - ECPv6.15.20//NONSGML v1.0//EN
CALSCALE:GREGORIAN
METHOD:PUBLISH
X-ORIGINAL-URL:https://midgloucestershire.camra.org.uk
X-WR-CALDESC:Events for Mid Gloucestershire Branch
REFRESH-INTERVAL;VALUE=DURATION:PT1H
X-Robots-Tag:noindex
X-PUBLISHED-TTL:PT1H
BEGIN:VTIMEZONE
TZID:UTC
BEGIN:STANDARD
TZOFFSETFROM:+0000
TZOFFSETTO:+0000
TZNAME:UTC
DTSTART:20240101T000000
END:STANDARD
END:VTIMEZONE
BEGIN:VEVENT
DTSTART;TZID=UTC:20251127T200000
DTEND;TZID=UTC:20251127T213000
DTSTAMP:20260423T225552
CREATED:20251103T134853Z
LAST-MODIFIED:20251103T134853Z
UID:2034-1764273600-1764279000@midgloucestershire.camra.org.uk
SUMMARY:Forest of Dean Social - Bell\, Redbrook
DESCRIPTION:
URL:https://midgloucestershire.camra.org.uk/event/forest-of-dean-social-bell-redbrook/
LOCATION:Bell\, Redbrook\, Redbrook\, Gloucestershire\, NP25 4LZ\, United Kingdom
CATEGORIES:Forest of Dean Social
ATTACH;FMTTYPE=image/png:https://midgloucestershire.camra.org.uk/wp-content/uploads/2025/04/Icon_FoD_2-e1744619566960.png
ORGANIZER;CN="CAMRA in Forest of Dean":MAILTO:forestofdean@midgloucestershire.camra.org.uk
END:VEVENT
END:VCALENDAR