BEGIN:VCALENDAR
VERSION:2.0
PRODID:-//Mid Gloucestershire Branch - ECPv6.15.20//NONSGML v1.0//EN
CALSCALE:GREGORIAN
METHOD:PUBLISH
X-ORIGINAL-URL:https://midgloucestershire.camra.org.uk
X-WR-CALDESC:Events for Mid Gloucestershire Branch
REFRESH-INTERVAL;VALUE=DURATION:PT1H
X-Robots-Tag:noindex
X-PUBLISHED-TTL:PT1H
BEGIN:VTIMEZONE
TZID:UTC
BEGIN:STANDARD
TZOFFSETFROM:+0000
TZOFFSETTO:+0000
TZNAME:UTC
DTSTART:20240101T000000
END:STANDARD
END:VTIMEZONE
BEGIN:VEVENT
DTSTART;TZID=UTC:20251126T193000
DTEND;TZID=UTC:20251126T220000
DTSTAMP:20260425T135449
CREATED:20251127T192528Z
LAST-MODIFIED:20251127T192528Z
UID:2084-1764185400-1764194400@midgloucestershire.camra.org.uk
SUMMARY:Stroud Social to the Ram Inn\, South Woodchester and Bell\, Selsley
DESCRIPTION:Strictly no CAMRA talk.
URL:https://midgloucestershire.camra.org.uk/event/stroud-social-to-the-ram-inn-south-woodchester-and-bell-selsley/
CATEGORIES:Stroud Social
ATTACH;FMTTYPE=image/png:https://midgloucestershire.camra.org.uk/wp-content/uploads/2025/04/Icon_Str_2-e1744619556885.png
ORGANIZER;CN="CAMRA in Stroud":MAILTO:stroud@midgloucestershire.camra.org.uk
END:VEVENT
END:VCALENDAR