BEGIN:VCALENDAR
VERSION:2.0
PRODID:-//Mid Gloucestershire Branch - ECPv6.15.20//NONSGML v1.0//EN
CALSCALE:GREGORIAN
METHOD:PUBLISH
X-ORIGINAL-URL:https://midgloucestershire.camra.org.uk
X-WR-CALDESC:Events for Mid Gloucestershire Branch
REFRESH-INTERVAL;VALUE=DURATION:PT1H
X-Robots-Tag:noindex
X-PUBLISHED-TTL:PT1H
BEGIN:VTIMEZONE
TZID:UTC
BEGIN:STANDARD
TZOFFSETFROM:+0000
TZOFFSETTO:+0000
TZNAME:UTC
DTSTART:20240101T000000
END:STANDARD
END:VTIMEZONE
BEGIN:VEVENT
DTSTART;TZID=UTC:20251104T193000
DTEND;TZID=UTC:20251104T220000
DTSTAMP:20260423T211932
CREATED:20250922T121649Z
LAST-MODIFIED:20251103T140130Z
UID:1896-1762284600-1762293600@midgloucestershire.camra.org.uk
SUMMARY:Branch Social - Gloucester Brewery - Warehouse 4\, Gloucester Docks
DESCRIPTION:We are heading to Gloucester Brewery to explore their place before hopping to another\, yet to be determined venue.
URL:https://midgloucestershire.camra.org.uk/event/branch-social/
CATEGORIES:Mid Gloucestershire Social
ATTACH;FMTTYPE=image/png:https://midgloucestershire.camra.org.uk/wp-content/uploads/2025/08/CAMRA_logo_mGlos_v2.png
END:VEVENT
END:VCALENDAR