BEGIN:VCALENDAR
VERSION:2.0
PRODID:-//Mid Gloucestershire Branch - ECPv6.15.20//NONSGML v1.0//EN
CALSCALE:GREGORIAN
METHOD:PUBLISH
X-WR-CALNAME:Mid Gloucestershire Branch
X-ORIGINAL-URL:https://midgloucestershire.camra.org.uk
X-WR-CALDESC:Events for Mid Gloucestershire Branch
REFRESH-INTERVAL;VALUE=DURATION:PT1H
X-Robots-Tag:noindex
X-PUBLISHED-TTL:PT1H
BEGIN:VTIMEZONE
TZID:UTC
BEGIN:STANDARD
TZOFFSETFROM:+0000
TZOFFSETTO:+0000
TZNAME:UTC
DTSTART:20240101T000000
END:STANDARD
END:VTIMEZONE
BEGIN:VEVENT
DTSTART;TZID=UTC:20251024T123000
DTEND;TZID=UTC:20251024T163000
DTSTAMP:20260423T225323
CREATED:20250922T120915Z
LAST-MODIFIED:20251020T113657Z
UID:1889-1761309000-1761323400@midgloucestershire.camra.org.uk
SUMMARY:Weekly Gloucester Social
DESCRIPTION:It’s Pub Push week and the Drunken Duck has a Green Duck tap takeover. There is a special card costing £25 which will get a half of every beer on offer.
URL:https://midgloucestershire.camra.org.uk/event/weekly-gloucester-social-4/
LOCATION:Drunken Duck\, Gloucester\, 1 Bull Lane\, Glocucester\, Gloucestershire\, GL1 2HG\, United Kingdom
CATEGORIES:Gloucester Social
ATTACH;FMTTYPE=image/png:https://midgloucestershire.camra.org.uk/wp-content/uploads/2025/04/Icon_CoG_2-e1744619546655.png
END:VEVENT
END:VCALENDAR