BEGIN:VCALENDAR
VERSION:2.0
PRODID:-//Mid Gloucestershire Branch - ECPv6.15.20//NONSGML v1.0//EN
CALSCALE:GREGORIAN
METHOD:PUBLISH
X-WR-CALNAME:Mid Gloucestershire Branch
X-ORIGINAL-URL:https://midgloucestershire.camra.org.uk
X-WR-CALDESC:Events for Mid Gloucestershire Branch
REFRESH-INTERVAL;VALUE=DURATION:PT1H
X-Robots-Tag:noindex
X-PUBLISHED-TTL:PT1H
BEGIN:VTIMEZONE
TZID:UTC
BEGIN:STANDARD
TZOFFSETFROM:+0000
TZOFFSETTO:+0000
TZNAME:UTC
DTSTART:20240101T000000
END:STANDARD
END:VTIMEZONE
BEGIN:VEVENT
DTSTART;TZID=UTC:20251001T193000
DTEND;TZID=UTC:20251001T210000
DTSTAMP:20260423T211623
CREATED:20250922T120126Z
LAST-MODIFIED:20250922T120327Z
UID:1882-1759347000-1759352400@midgloucestershire.camra.org.uk
SUMMARY:Weekly Gloucester Social
DESCRIPTION:Please note that the day of the week may change.
URL:https://midgloucestershire.camra.org.uk/event/weekly-gloucester-social/
LOCATION:Hop Kettle\, Gloucester\, GL1 2ED
CATEGORIES:Gloucester Social
ATTACH;FMTTYPE=image/png:https://midgloucestershire.camra.org.uk/wp-content/uploads/2025/04/Icon_CoG_2-e1744619546655.png
END:VEVENT
BEGIN:VEVENT
DTSTART;TZID=UTC:20251006T080000
DTEND;TZID=UTC:20251006T170000
DTSTAMP:20260423T211623
CREATED:20251006T112547Z
LAST-MODIFIED:20251006T112547Z
UID:1978-1759737600-1759770000@midgloucestershire.camra.org.uk
SUMMARY:Cheltenham Ale Ambles to Bath
DESCRIPTION:This is being organised by Cheltenham CAMRA. Please contact them for more details and if you plan on joining them.
URL:https://midgloucestershire.camra.org.uk/event/cheltenham-ale-ambles-to-bath/
CATEGORIES:Cheltenham Social
END:VEVENT
BEGIN:VEVENT
DTSTART;TZID=UTC:20251010T193000
DTEND;TZID=UTC:20251010T213000
DTSTAMP:20260423T211623
CREATED:20251002T120847Z
LAST-MODIFIED:20251002T120847Z
UID:1972-1760124600-1760131800@midgloucestershire.camra.org.uk
SUMMARY:Weekly Gloucester Social - Brewhouse & Kitchen\, Gloucester Docks
DESCRIPTION:
URL:https://midgloucestershire.camra.org.uk/event/weekly-gloucester-social-brewhouse-kitchen-gloucester-docks/
CATEGORIES:Gloucester Social
ATTACH;FMTTYPE=image/png:https://midgloucestershire.camra.org.uk/wp-content/uploads/2025/04/Icon_CoG_2-e1744619546655.png
END:VEVENT
BEGIN:VEVENT
DTSTART;TZID=UTC:20251021T193000
DTEND;TZID=UTC:20251021T213000
DTSTAMP:20260423T211623
CREATED:20250922T120813Z
LAST-MODIFIED:20251020T113439Z
UID:1887-1761075000-1761082200@midgloucestershire.camra.org.uk
SUMMARY:Weekly Gloucester Social
DESCRIPTION:It’s Pub Push week\, and Café René is just one of five venues to be pouring a specially brewed beer for the week.
URL:https://midgloucestershire.camra.org.uk/event/weekly-gloucester-social-3/
LOCATION:Café René\, GL1 1TP
CATEGORIES:Gloucester Social
ATTACH;FMTTYPE=image/png:https://midgloucestershire.camra.org.uk/wp-content/uploads/2025/04/Icon_CoG_2-e1744619546655.png
END:VEVENT
BEGIN:VEVENT
DTSTART;TZID=UTC:20251022T193000
DTEND;TZID=UTC:20251022T220000
DTSTAMP:20260423T211623
CREATED:20251020T113858Z
LAST-MODIFIED:20251020T113858Z
UID:1990-1761161400-1761170400@midgloucestershire.camra.org.uk
SUMMARY:Stroud Monthly Social to Chalford
DESCRIPTION:A reminder about this Wednesday 23rd October. The social evening starting at the Butchers Arms Oakridge and The Old Neighbourhood Chalford. Meeting at the Butchers Arms about 1930ish. Looking forward to seeing you there.
URL:https://midgloucestershire.camra.org.uk/event/stroud-monthly-social-to-chalford/
CATEGORIES:Stroud Social
ORGANIZER;CN="CAMRA in Stroud":MAILTO:stroud@midgloucestershire.camra.org.uk
END:VEVENT
BEGIN:VEVENT
DTSTART;TZID=UTC:20251024T123000
DTEND;TZID=UTC:20251024T163000
DTSTAMP:20260423T211623
CREATED:20250922T120915Z
LAST-MODIFIED:20251020T113657Z
UID:1889-1761309000-1761323400@midgloucestershire.camra.org.uk
SUMMARY:Weekly Gloucester Social
DESCRIPTION:It’s Pub Push week and the Drunken Duck has a Green Duck tap takeover. There is a special card costing £25 which will get a half of every beer on offer.
URL:https://midgloucestershire.camra.org.uk/event/weekly-gloucester-social-4/
LOCATION:Drunken Duck\, Gloucester\, 1 Bull Lane\, Glocucester\, Gloucestershire\, GL1 2HG\, United Kingdom
CATEGORIES:Gloucester Social
ATTACH;FMTTYPE=image/png:https://midgloucestershire.camra.org.uk/wp-content/uploads/2025/04/Icon_CoG_2-e1744619546655.png
END:VEVENT
BEGIN:VEVENT
DTSTART;TZID=UTC:20251030T200000
DTEND;TZID=UTC:20251030T220000
DTSTAMP:20260423T211623
CREATED:20251028T114254Z
LAST-MODIFIED:20251028T114254Z
UID:2014-1761854400-1761861600@midgloucestershire.camra.org.uk
SUMMARY:Forest of Dean Social
DESCRIPTION:Our next social is next Thursday 30th October at the Rising Sun\, Moseley Green at 8pm. \nThere will be more socials up to the end of the year so keep checking your e-mails and website.
URL:https://midgloucestershire.camra.org.uk/event/forest-of-dean-social/
LOCATION:Rising Sun\, Moseley Green\, GL15 4HN
CATEGORIES:Forest of Dean Social
ATTACH;FMTTYPE=image/png:https://midgloucestershire.camra.org.uk/wp-content/uploads/2025/04/Icon_FoD_2-e1744619566960.png
ORGANIZER;CN="CAMRA in Forest of Dean":MAILTO:forestofdean@midgloucestershire.camra.org.uk
END:VEVENT
END:VCALENDAR