BEGIN:VCALENDAR
VERSION:2.0
PRODID:-//Mid Gloucestershire Branch - ECPv6.15.20//NONSGML v1.0//EN
CALSCALE:GREGORIAN
METHOD:PUBLISH
X-WR-CALNAME:Mid Gloucestershire Branch
X-ORIGINAL-URL:https://midgloucestershire.camra.org.uk
X-WR-CALDESC:Events for Mid Gloucestershire Branch
REFRESH-INTERVAL;VALUE=DURATION:PT1H
X-Robots-Tag:noindex
X-PUBLISHED-TTL:PT1H
BEGIN:VTIMEZONE
TZID:UTC
BEGIN:STANDARD
TZOFFSETFROM:+0000
TZOFFSETTO:+0000
TZNAME:UTC
DTSTART:20240101T000000
END:STANDARD
END:VTIMEZONE
BEGIN:VEVENT
DTSTART;TZID=UTC:20250918T120000
DTEND;TZID=UTC:20250918T170000
DTSTAMP:20260423T225300
CREATED:20250908T115158Z
LAST-MODIFIED:20250908T115158Z
UID:1824-1758196800-1758214800@midgloucestershire.camra.org.uk
SUMMARY:Bristol CAMRA visit Gloucester
DESCRIPTION:A day out walking around a few pubs in Gloucester. Aiming to arrive at Gloucester station at 11.56 am with first pub from just after 12 noon to be advised. Recommended train is 11.08 am from Temple Meads\, 11. 19 from Parkway\, or earlier if you want to take in some tourist sights beforehand. All welcome whether CAMRA members or not.
URL:https://midgloucestershire.camra.org.uk/event/bristol-camra-visit-gloucester/
CATEGORIES:Gloucester Social
ATTACH;FMTTYPE=image/png:https://midgloucestershire.camra.org.uk/wp-content/uploads/2025/04/Icon_CoG_2-e1744619546655.png
ORGANIZER;CN="Bristol CAMRA":MAILTO:https://www.camrabristol.org.uk
END:VEVENT
BEGIN:VEVENT
DTSTART;TZID=UTC:20250924T193000
DTEND;TZID=UTC:20250924T220000
DTSTAMP:20260423T225300
CREATED:20250910T113120Z
LAST-MODIFIED:20250910T113120Z
UID:1829-1758742200-1758751200@midgloucestershire.camra.org.uk
SUMMARY:Stroud Social to Kingscourt
DESCRIPTION:Another date\, another social evening. Make a note Wednesday 24th September. This time the Stroud CAMRA group are going to Kingscourt. Visiting The Kings Head. Then heading back into Stroud and calling in at The Clothiers Arms. We aim to get to the Kings Head about 1930ish to sample their ale. Then getting to The Clothiers around 2045. The evening normally ends around 2200 as most members have school the next day. All welcome and definitely no CAMRA business.\nLook forward to seeing you there.
URL:https://midgloucestershire.camra.org.uk/event/stroud-social-to-kingscourt/
CATEGORIES:Stroud Social
ORGANIZER;CN="CAMRA in Stroud":MAILTO:stroud@midgloucestershire.camra.org.uk
END:VEVENT
BEGIN:VEVENT
DTSTART;TZID=UTC:20250927T150000
DTEND;TZID=UTC:20250927T163000
DTSTAMP:20260423T225300
CREATED:20250927T102150Z
LAST-MODIFIED:20250927T102336Z
UID:1954-1758985200-1758990600@midgloucestershire.camra.org.uk
SUMMARY:GBG Beer Launch 2026 at the Woolpack\, Slad
DESCRIPTION:Will be on sale £12 to members\, £16.99 non-members.
URL:https://midgloucestershire.camra.org.uk/event/gbg-beer-launch-2026-at-the-woolpack-slad/
LOCATION:Woolpack\, Slad\, Slad Road\, Stroud\, Gloucestershire\, GL6 7QA\, United Kingdom
CATEGORIES:Stroud Social
ATTACH;FMTTYPE=image/png:https://midgloucestershire.camra.org.uk/wp-content/uploads/2025/04/Icon_Str_2-e1744619556885.png
ORGANIZER;CN="CAMRA in Stroud":MAILTO:stroud@midgloucestershire.camra.org.uk
END:VEVENT
END:VCALENDAR