BEGIN:VCALENDAR
VERSION:2.0
PRODID:-//Mid Gloucestershire Branch - ECPv6.15.20//NONSGML v1.0//EN
CALSCALE:GREGORIAN
METHOD:PUBLISH
X-WR-CALNAME:Mid Gloucestershire Branch
X-ORIGINAL-URL:https://midgloucestershire.camra.org.uk
X-WR-CALDESC:Events for Mid Gloucestershire Branch
REFRESH-INTERVAL;VALUE=DURATION:PT1H
X-Robots-Tag:noindex
X-PUBLISHED-TTL:PT1H
BEGIN:VTIMEZONE
TZID:UTC
BEGIN:STANDARD
TZOFFSETFROM:+0000
TZOFFSETTO:+0000
TZNAME:UTC
DTSTART:20240101T000000
END:STANDARD
END:VTIMEZONE
BEGIN:VEVENT
DTSTART;TZID=UTC:20251101T120000
DTEND;TZID=UTC:20251101T140000
DTSTAMP:20260420T012004
CREATED:20251022T121026Z
LAST-MODIFIED:20251022T121139Z
UID:2003-1761998400-1762005600@midgloucestershire.camra.org.uk
SUMMARY:Branch Development Meeting with Brett Lanoish (RD for West Central) and Paul Sanders (RD for South East)
DESCRIPTION:Coming up is a meeting on Saturday November 1st at 12.30 pm in the Pelican. Where the Brett Lanoish our Regional Director and Paul Sanders who is Chair of the Branches Committee and Regional Director of the South East Region are coming to discuss the way forward for Mid Gloucestershire Branch and to answer any questions.
URL:https://midgloucestershire.camra.org.uk/event/branch-development-meeting-with-brett-lanoish-rd-for-west-central-and-paul-sanders-rd-for-south-east/
LOCATION:The Pelican\, Gloucester
CATEGORIES:Mid Gloucestershire Meeting
ATTACH;FMTTYPE=image/png:https://midgloucestershire.camra.org.uk/wp-content/uploads/2025/08/CAMRA_2025_MGlos_Logo-2.png
END:VEVENT
END:VCALENDAR