BEGIN:VCALENDAR
VERSION:2.0
PRODID:-//Mid Gloucestershire Branch - ECPv6.15.20//NONSGML v1.0//EN
CALSCALE:GREGORIAN
METHOD:PUBLISH
X-ORIGINAL-URL:https://midgloucestershire.camra.org.uk
X-WR-CALDESC:Events for Mid Gloucestershire Branch
REFRESH-INTERVAL;VALUE=DURATION:PT1H
X-Robots-Tag:noindex
X-PUBLISHED-TTL:PT1H
BEGIN:VTIMEZONE
TZID:UTC
BEGIN:STANDARD
TZOFFSETFROM:+0000
TZOFFSETTO:+0000
TZNAME:UTC
DTSTART:20250101T000000
END:STANDARD
END:VTIMEZONE
BEGIN:VEVENT
DTSTART;TZID=UTC:20260505T193000
DTEND;TZID=UTC:20260505T210000
DTSTAMP:20260419T172858
CREATED:20260416T110805Z
LAST-MODIFIED:20260416T110920Z
UID:2385-1778009400-1778014800@midgloucestershire.camra.org.uk
SUMMARY:Branch Meeting - The Pelican - All Members Welcome
DESCRIPTION:
URL:https://midgloucestershire.camra.org.uk/event/branch-meeting-the-pelican-all-members-welcome/
LOCATION:The Pelican\, Gloucester
CATEGORIES:Mid Gloucestershire Meeting
ATTACH;FMTTYPE=image/png:https://midgloucestershire.camra.org.uk/wp-content/uploads/2025/08/CAMRA_2025_MGlos_Logo-2.png
END:VEVENT
END:VCALENDAR