BEGIN:VCALENDAR
VERSION:2.0
PRODID:-//Mid Gloucestershire Branch - ECPv6.15.20//NONSGML v1.0//EN
CALSCALE:GREGORIAN
METHOD:PUBLISH
X-WR-CALNAME:Mid Gloucestershire Branch
X-ORIGINAL-URL:https://midgloucestershire.camra.org.uk
X-WR-CALDESC:Events for Mid Gloucestershire Branch
REFRESH-INTERVAL;VALUE=DURATION:PT1H
X-Robots-Tag:noindex
X-PUBLISHED-TTL:PT1H
BEGIN:VTIMEZONE
TZID:UTC
BEGIN:STANDARD
TZOFFSETFROM:+0000
TZOFFSETTO:+0000
TZNAME:UTC
DTSTART:20250101T000000
END:STANDARD
END:VTIMEZONE
BEGIN:VEVENT
DTSTART;TZID=UTC:20260624T200000
DTEND;TZID=UTC:20260624T220000
DTSTAMP:20260423T110413
CREATED:20260414T131535Z
LAST-MODIFIED:20260414T131631Z
UID:2375-1782331200-1782338400@midgloucestershire.camra.org.uk
SUMMARY:Dursley Visit The Fleece\, Hillesley
DESCRIPTION:All Welcome
URL:https://midgloucestershire.camra.org.uk/event/dursley-event/
LOCATION:The Fleece\, Hillesley\, Chapel Lane\, Hillesley\, Gloucestershire\, GL12 7RD\, United Kingdom
CATEGORIES:Dursley & District Meeting
ATTACH;FMTTYPE=image/png:https://midgloucestershire.camra.org.uk/wp-content/uploads/2025/04/Icon_DaD_2-e1744619579442.png
ORGANIZER;CN="CAMRA in Dursley":MAILTO:dursley@midgloucestershire.camra.org.uk
END:VEVENT
END:VCALENDAR