BEGIN:VCALENDAR
VERSION:2.0
PRODID:-//Mid Gloucestershire Branch - ECPv6.15.20//NONSGML v1.0//EN
CALSCALE:GREGORIAN
METHOD:PUBLISH
X-WR-CALNAME:Mid Gloucestershire Branch
X-ORIGINAL-URL:https://midgloucestershire.camra.org.uk
X-WR-CALDESC:Events for Mid Gloucestershire Branch
REFRESH-INTERVAL;VALUE=DURATION:PT1H
X-Robots-Tag:noindex
X-PUBLISHED-TTL:PT1H
BEGIN:VTIMEZONE
TZID:UTC
BEGIN:STANDARD
TZOFFSETFROM:+0000
TZOFFSETTO:+0000
TZNAME:UTC
DTSTART:20240101T000000
END:STANDARD
END:VTIMEZONE
BEGIN:VEVENT
DTSTART;VALUE=DATE:20250501
DTEND;VALUE=DATE:20250505
DTSTAMP:20260421T015100
CREATED:20250404T120509Z
LAST-MODIFIED:20250404T120509Z
UID:303-1746057600-1746403199@midgloucestershire.camra.org.uk
SUMMARY:City of Gloucester - Tap Takeover - Lune Brew & Accidental Brewery (External)
DESCRIPTION:Join us at The Drunken Duck\, Gloucester for our first Tap Takeover of 2025! We’re kicking things off in style\, bringing you an epic lineup of beers from two incredible breweries: Lune Brew & Accidental Brewery.\n 1st – 4th May 2025 Live Music – Saturday 3rd May (TBC)\n What’s on tap? Lune Brew takes over our cask lines Accidental Brewery dominates our keg taps 10 beers pouring at all times\, including: 1 Lager 5 Craft Beers 4 Cask Ales\nWhether you’re a hop head\, a lager lover\, or a cask connoisseur\, we’ve got something for you! Come down\, grab a pint (or three)\, and enjoy an epic weekend of top-tier beer.\nTag your drinking buddies & spread the word!  See you at the bar.
URL:https://midgloucestershire.camra.org.uk/event/tap-takeover-lune-brew-accidental-brewery-external/
LOCATION:Drunken Duck\, Gloucester\, 1 Bull Lane\, Glocucester\, Gloucestershire\, GL1 2HG\, United Kingdom
CATEGORIES:Gloucester (External Event)
ATTACH;FMTTYPE=image/png:https://midgloucestershire.camra.org.uk/wp-content/uploads/2025/04/Cog_Logo_News_Short.png
END:VEVENT
BEGIN:VEVENT
DTSTART;VALUE=DATE:20250501
DTEND;VALUE=DATE:20250506
DTSTAMP:20260421T015100
CREATED:20250430T173100Z
LAST-MODIFIED:20250430T173100Z
UID:886-1746057600-1746489599@midgloucestershire.camra.org.uk
SUMMARY:City of Gloucester - Derbyshire Takeover - Thirsty Pine (External)
DESCRIPTION:The Thirsty Pine has given us early access to the Derbyshire Takeover beer list: \nDerbyshire Showcase Menu May 2025
URL:https://midgloucestershire.camra.org.uk/event/city-of-gloucester-derbyshire-takeover-thirsty-pine-external/
LOCATION:Thirsty Pine\, 5-7 Brunswick Road\, Gloucester\, Gloucestershire\, GL1 1HG\, United Kingdom
CATEGORIES:Gloucester (External Event)
ATTACH;FMTTYPE=image/png:https://midgloucestershire.camra.org.uk/wp-content/uploads/2025/04/Cog_Logo_News_Short.png
END:VEVENT
BEGIN:VEVENT
DTSTART;VALUE=DATE:20250502
DTEND;VALUE=DATE:20250506
DTSTAMP:20260421T015100
CREATED:20250430T180706Z
LAST-MODIFIED:20250430T180706Z
UID:893-1746144000-1746489599@midgloucestershire.camra.org.uk
SUMMARY:City of Gloucester - 1 Year Anniversary Beer Festival Weekend - Black Horse\, Cranham
DESCRIPTION:
URL:https://midgloucestershire.camra.org.uk/event/city-of-gloucester-1-year-anniversary-beer-festival-weekend-black-horse-cranham/
CATEGORIES:Gloucester (External Event)
ATTACH;FMTTYPE=image/png:https://midgloucestershire.camra.org.uk/wp-content/uploads/2025/04/Cog_Logo_News_Short.png
END:VEVENT
END:VCALENDAR