BEGIN:VCALENDAR
VERSION:2.0
PRODID:-//Mid Gloucestershire Branch - ECPv6.15.20//NONSGML v1.0//EN
CALSCALE:GREGORIAN
METHOD:PUBLISH
X-ORIGINAL-URL:https://midgloucestershire.camra.org.uk
X-WR-CALDESC:Events for Mid Gloucestershire Branch
REFRESH-INTERVAL;VALUE=DURATION:PT1H
X-Robots-Tag:noindex
X-PUBLISHED-TTL:PT1H
BEGIN:VTIMEZONE
TZID:UTC
BEGIN:STANDARD
TZOFFSETFROM:+0000
TZOFFSETTO:+0000
TZNAME:UTC
DTSTART:20250101T000000
END:STANDARD
END:VTIMEZONE
BEGIN:VEVENT
DTSTART;VALUE=DATE:20260501
DTEND;VALUE=DATE:20260504
DTSTAMP:20260419T194935
CREATED:20260416T110225Z
LAST-MODIFIED:20260416T110225Z
UID:2383-1777593600-1777852799@midgloucestershire.camra.org.uk
SUMMARY:Blues & Ale Festival - Churchdown Club (External)
DESCRIPTION:
URL:https://midgloucestershire.camra.org.uk/event/blues-ale-festival-churchdown-club-external/
LOCATION:Churchdown Club\, Churchdown\, 1A Church Road\, Churchdown\, Gloucester\, GL3 2ER
CATEGORIES:Gloucester (External Event)
ATTACH;FMTTYPE=image/png:https://midgloucestershire.camra.org.uk/wp-content/uploads/2025/07/Gloucester_News_Header_Short.png
END:VEVENT
BEGIN:VEVENT
DTSTART;VALUE=DATE:20260523
DTEND;VALUE=DATE:20260525
DTSTAMP:20260419T194935
CREATED:20260416T105803Z
LAST-MODIFIED:20260416T105825Z
UID:2379-1779494400-1779667199@midgloucestershire.camra.org.uk
SUMMARY:Real Ale Festival @ Dr Foster\, Gloucester (External)
DESCRIPTION:
URL:https://midgloucestershire.camra.org.uk/event/real-ale-festival-dr-foster-gloucester-external/
CATEGORIES:Gloucester (External Event)
ATTACH;FMTTYPE=image/png:https://midgloucestershire.camra.org.uk/wp-content/uploads/2025/07/Gloucester_News_Header_Short.png
END:VEVENT
END:VCALENDAR