BEGIN:VCALENDAR
VERSION:2.0
PRODID:-//Mid Gloucestershire Branch - ECPv6.15.20//NONSGML v1.0//EN
CALSCALE:GREGORIAN
METHOD:PUBLISH
X-ORIGINAL-URL:https://midgloucestershire.camra.org.uk
X-WR-CALDESC:Events for Mid Gloucestershire Branch
REFRESH-INTERVAL;VALUE=DURATION:PT1H
X-Robots-Tag:noindex
X-PUBLISHED-TTL:PT1H
BEGIN:VTIMEZONE
TZID:UTC
BEGIN:STANDARD
TZOFFSETFROM:+0000
TZOFFSETTO:+0000
TZNAME:UTC
DTSTART:20240101T000000
END:STANDARD
END:VTIMEZONE
BEGIN:VEVENT
DTSTART;VALUE=DATE:20250821
DTEND;VALUE=DATE:20250826
DTSTAMP:20260423T141800
CREATED:20250809T124129Z
LAST-MODIFIED:20250809T124129Z
UID:1735-1755734400-1756166399@midgloucestershire.camra.org.uk
SUMMARY:Dursley - Old Spot Summer Beer Festival (External)
DESCRIPTION:
URL:https://midgloucestershire.camra.org.uk/event/dursley-old-spot-summer-beer-festival-external/
LOCATION:Old Spot\, Dursley\, 2 Hill Road\, Dursley\, Gloucestershire\, GL11 4JQ\, United Kingdom
CATEGORIES:Dursley & District (External Event)
ATTACH;FMTTYPE=image/png:https://midgloucestershire.camra.org.uk/wp-content/uploads/2025/04/DaD_Logo_Box.png
END:VEVENT
BEGIN:VEVENT
DTSTART;TZID=UTC:20250821T183000
DTEND;TZID=UTC:20250821T220000
DTSTAMP:20260423T141800
CREATED:20250811T101532Z
LAST-MODIFIED:20250811T101743Z
UID:1742-1755801000-1755813600@midgloucestershire.camra.org.uk
SUMMARY:UB40 August Beer Launch
DESCRIPTION:
URL:https://midgloucestershire.camra.org.uk/event/1742/
LOCATION:Crown & Sceptre\, Stroud\, GL5 1EG
CATEGORIES:Dursley & District (External Event),Stroud (External Event)
ATTACH;FMTTYPE=image/jpeg:https://midgloucestershire.camra.org.uk/wp-content/uploads/2025/04/Uley_Brewery-e1744289424765.jpg
END:VEVENT
END:VCALENDAR