BEGIN:VCALENDAR
VERSION:2.0
PRODID:-//Mid Gloucestershire Branch - ECPv6.15.20//NONSGML v1.0//EN
CALSCALE:GREGORIAN
METHOD:PUBLISH
X-ORIGINAL-URL:https://midgloucestershire.camra.org.uk
X-WR-CALDESC:Events for Mid Gloucestershire Branch
REFRESH-INTERVAL;VALUE=DURATION:PT1H
X-Robots-Tag:noindex
X-PUBLISHED-TTL:PT1H
BEGIN:VTIMEZONE
TZID:UTC
BEGIN:STANDARD
TZOFFSETFROM:+0000
TZOFFSETTO:+0000
TZNAME:UTC
DTSTART:20240101T000000
END:STANDARD
END:VTIMEZONE
BEGIN:VEVENT
DTSTART;VALUE=DATE:20250814
DTEND;VALUE=DATE:20250817
DTSTAMP:20260420T093845
CREATED:20250514T172745Z
LAST-MODIFIED:20250514T172745Z
UID:946-1755129600-1755388799@midgloucestershire.camra.org.uk
SUMMARY:CAMRA Worcester Beer\, Cider & Perry Festival 2025
DESCRIPTION: Get Ready! The 23rd Worcester Beer\, Cider & Perry Festival is BACK in 2025 Something for everyone: over 100 quality beers\, ciders\, and perries\, listening to brilliant live bands and tucking into some tasty grub from loads of food stalls. Plus\, it’s a grand day out for the whole family!Whether you’re a real ale enthusiast or just after a brilliant weekend atmosphere\, we’ve got you sorted.
URL:https://midgloucestershire.camra.org.uk/event/camra-worcester-beer-cider-perry-festival-2025/
CATEGORIES:CAMRA Festivals
ATTACH;FMTTYPE=image/jpeg:https://midgloucestershire.camra.org.uk/wp-content/uploads/2025/04/cropped-CAMRA-Logo-on-the-beach-in-Torquay-1080x810-1.jpeg
END:VEVENT
END:VCALENDAR