BEGIN:VCALENDAR
VERSION:2.0
PRODID:-//Mid Gloucestershire Branch - ECPv6.15.20//NONSGML v1.0//EN
CALSCALE:GREGORIAN
METHOD:PUBLISH
X-ORIGINAL-URL:https://midgloucestershire.camra.org.uk
X-WR-CALDESC:Events for Mid Gloucestershire Branch
REFRESH-INTERVAL;VALUE=DURATION:PT1H
X-Robots-Tag:noindex
X-PUBLISHED-TTL:PT1H
BEGIN:VTIMEZONE
TZID:UTC
BEGIN:STANDARD
TZOFFSETFROM:+0000
TZOFFSETTO:+0000
TZNAME:UTC
DTSTART:20240101T000000
END:STANDARD
END:VTIMEZONE
BEGIN:VEVENT
DTSTART;VALUE=DATE:20250613
DTEND;VALUE=DATE:20250616
DTSTAMP:20260420T112909
CREATED:20250404T121113Z
LAST-MODIFIED:20250404T121113Z
UID:307-1749772800-1750031999@midgloucestershire.camra.org.uk
SUMMARY:North Cotswold CAMRA – 23rd GWR Ale & Steam Weekend
DESCRIPTION:The North Cotswold Branch of CAMRA in conjunction with the Gloucestershire Warwickshire Railway are holding their 23rd Ale and Steam Weekend at Winchcombe and Toddington Stations from Friday 13th June until Sunday 15th June 2025
URL:https://midgloucestershire.camra.org.uk/event/north-cotswold-camra-23rd-gwr-ale-steam-weekend/
LOCATION:Toddington
CATEGORIES:CAMRA Festivals
END:VEVENT
END:VCALENDAR