BEGIN:VCALENDAR
VERSION:2.0
PRODID:-//Mid Gloucestershire Branch - ECPv6.15.20//NONSGML v1.0//EN
CALSCALE:GREGORIAN
METHOD:PUBLISH
X-WR-CALNAME:Mid Gloucestershire Branch
X-ORIGINAL-URL:https://midgloucestershire.camra.org.uk
X-WR-CALDESC:Events for Mid Gloucestershire Branch
REFRESH-INTERVAL;VALUE=DURATION:PT1H
X-Robots-Tag:noindex
X-PUBLISHED-TTL:PT1H
BEGIN:VTIMEZONE
TZID:UTC
BEGIN:STANDARD
TZOFFSETFROM:+0000
TZOFFSETTO:+0000
TZNAME:UTC
DTSTART:20250101T000000
END:STANDARD
END:VTIMEZONE
BEGIN:VEVENT
DTSTART;VALUE=DATE:20260105
DTEND;VALUE=DATE:20260301
DTSTAMP:20260425T163754
CREATED:20260105T155052Z
LAST-MODIFIED:20260105T155410Z
UID:2113-1767571200-1772323199@midgloucestershire.camra.org.uk
SUMMARY:Branch Award Judging Period 2026
DESCRIPTION:Throughout January and February\, each area of the branch will be visiting the other candidates to judge an overall branch award. If you would like to get involved please contact your area coordinator using your area {cirencester¦dursley¦forestofdean¦gloucester¦stroud} followed by @midgloucestershire.camra.org.uk
URL:https://midgloucestershire.camra.org.uk/event/branch-award-judging-period-2026/
CATEGORIES:Calendar
ATTACH;FMTTYPE=image/png:https://midgloucestershire.camra.org.uk/wp-content/uploads/2025/08/PotY_25_WC-e1755011808640.png
END:VEVENT
END:VCALENDAR