BEGIN:VCALENDAR
VERSION:2.0
PRODID:-//Mid Gloucestershire Branch - ECPv6.15.20//NONSGML v1.0//EN
CALSCALE:GREGORIAN
METHOD:PUBLISH
X-ORIGINAL-URL:https://midgloucestershire.camra.org.uk
X-WR-CALDESC:Events for Mid Gloucestershire Branch
REFRESH-INTERVAL;VALUE=DURATION:PT1H
X-Robots-Tag:noindex
X-PUBLISHED-TTL:PT1H
BEGIN:VTIMEZONE
TZID:UTC
BEGIN:STANDARD
TZOFFSETFROM:+0000
TZOFFSETTO:+0000
TZNAME:UTC
DTSTART:20250101T000000
END:STANDARD
END:VTIMEZONE
BEGIN:VEVENT
DTSTART;TZID=UTC:20260129T193000
DTEND;TZID=UTC:20260129T210000
DTSTAMP:20260420T054648
CREATED:20260120T135007Z
LAST-MODIFIED:20260120T135223Z
UID:2218-1769715000-1769720400@midgloucestershire.camra.org.uk
SUMMARY:Gloucester Club of the Year 2026 Presentation
DESCRIPTION:The Gloucester Area Club of the Year winner\, The Churchdown Club\, 1A Church Road\, Churchdown\, Gloucester\, GL3 2ER. \n  \nTheir presentation is at 7.30pm on Thursday 29 January 2026.
URL:https://midgloucestershire.camra.org.uk/event/gloucester-club-of-the-year-presentation/
LOCATION:Churchdown Club\, Churchdown\, 1A Church Road\, Churchdown\, Gloucester\, GL3 2ER
CATEGORIES:Awards,Gloucester Social
ATTACH;FMTTYPE=image/png:https://midgloucestershire.camra.org.uk/wp-content/uploads/2025/04/Icon_CoG_2-e1744619546655.png
END:VEVENT
END:VCALENDAR