BEGIN:VCALENDAR
VERSION:2.0
PRODID:-//Mid Gloucestershire Branch - ECPv6.15.20//NONSGML v1.0//EN
CALSCALE:GREGORIAN
METHOD:PUBLISH
X-WR-CALNAME:Mid Gloucestershire Branch
X-ORIGINAL-URL:https://midgloucestershire.camra.org.uk
X-WR-CALDESC:Events for Mid Gloucestershire Branch
REFRESH-INTERVAL;VALUE=DURATION:PT1H
X-Robots-Tag:noindex
X-PUBLISHED-TTL:PT1H
BEGIN:VTIMEZONE
TZID:UTC
BEGIN:STANDARD
TZOFFSETFROM:+0000
TZOFFSETTO:+0000
TZNAME:UTC
DTSTART:20250101T000000
END:STANDARD
END:VTIMEZONE
BEGIN:VEVENT
DTSTART;VALUE=DATE:20260301
DTEND;VALUE=DATE:20260501
DTSTAMP:20260420T004225
CREATED:20260107T151901Z
LAST-MODIFIED:20260107T151946Z
UID:2137-1772323200-1777593599@midgloucestershire.camra.org.uk
SUMMARY:County Award Judging Period 2026
DESCRIPTION:
URL:https://midgloucestershire.camra.org.uk/event/county-award-judging/
LOCATION:Gloucestershire
CATEGORIES:Awards
ATTACH;FMTTYPE=image/png:https://midgloucestershire.camra.org.uk/wp-content/uploads/2025/04/Branch-Logo-Gloucestershire.png
END:VEVENT
BEGIN:VEVENT
DTSTART;TZID=UTC:20260320T173000
DTEND;TZID=UTC:20260320T183000
DTSTAMP:20260420T004225
CREATED:20260316T095716Z
LAST-MODIFIED:20260316T095716Z
UID:2316-1774027800-1774031400@midgloucestershire.camra.org.uk
SUMMARY:Mid Gloucestershire Pub of the Year Presentation 2026 - The Pelican
DESCRIPTION:The Pelican will be awarded with the Mid Gloucestershire Pub of the Year certificate on Friday 20th March at 17.30. \nIt was a close run competition with the Old Spot\, Dursley narrowly missing out on the award having had to go to a tie-breaking decision. \n 
URL:https://midgloucestershire.camra.org.uk/event/mid-gloucestershire-pub-of-the-year-presentation-2026-the-pelican/
LOCATION:The Pelican\, Gloucester
CATEGORIES:Awards
ATTACH;FMTTYPE=image/png:https://midgloucestershire.camra.org.uk/wp-content/uploads/2025/08/CAMRA_logo_mGlos_v2_medium.png
END:VEVENT
BEGIN:VEVENT
DTSTART;TZID=UTC:20260326T193000
DTEND;TZID=UTC:20260326T210000
DTSTAMP:20260420T004225
CREATED:20260316T100440Z
LAST-MODIFIED:20260316T100440Z
UID:2320-1774553400-1774558800@midgloucestershire.camra.org.uk
SUMMARY:Mid Gloucestershire Club of the Year Presentation 2026 - The Churchdown Club
DESCRIPTION:The award for Mid Gloucestershire Club of the Year 2026 will be presented on Thursday 26th March at 19:30. \nThe club is reachable by bus from the Gloucester Transport Hub by taking the 97 Gold or 98 Gold routes\, and takes approximately 30 minutes. The services run until late for the return journey.
URL:https://midgloucestershire.camra.org.uk/event/mid-gloucestershire-club-of-the-year-presentation-2026-the-churchdown-club/
LOCATION:Churchdown Club\, Churchdown\, 1A Church Road\, Churchdown\, Gloucester\, GL3 2ER
CATEGORIES:Awards
ATTACH;FMTTYPE=image/png:https://midgloucestershire.camra.org.uk/wp-content/uploads/2025/08/CAMRA_logo_mGlos_v2_medium.png
END:VEVENT
END:VCALENDAR